BEGIN:VCALENDAR
VERSION:2.0
PRODID:-//Brain Health Virginia - ECPv6.15.20//NONSGML v1.0//EN
CALSCALE:GREGORIAN
METHOD:PUBLISH
X-ORIGINAL-URL:https://www.vdh.virginia.gov/brain-health
X-WR-CALDESC:Events for Brain Health Virginia
REFRESH-INTERVAL;VALUE=DURATION:PT1H
X-Robots-Tag:noindex
X-PUBLISHED-TTL:PT1H
BEGIN:VTIMEZONE
TZID:America/New_York
BEGIN:DAYLIGHT
TZOFFSETFROM:-0500
TZOFFSETTO:-0400
TZNAME:EDT
DTSTART:20250309T070000
END:DAYLIGHT
BEGIN:STANDARD
TZOFFSETFROM:-0400
TZOFFSETTO:-0500
TZNAME:EST
DTSTART:20251102T060000
END:STANDARD
BEGIN:DAYLIGHT
TZOFFSETFROM:-0500
TZOFFSETTO:-0400
TZNAME:EDT
DTSTART:20260308T070000
END:DAYLIGHT
BEGIN:STANDARD
TZOFFSETFROM:-0400
TZOFFSETTO:-0500
TZNAME:EST
DTSTART:20261101T060000
END:STANDARD
BEGIN:DAYLIGHT
TZOFFSETFROM:-0500
TZOFFSETTO:-0400
TZNAME:EDT
DTSTART:20270314T070000
END:DAYLIGHT
BEGIN:STANDARD
TZOFFSETFROM:-0400
TZOFFSETTO:-0500
TZNAME:EST
DTSTART:20271107T060000
END:STANDARD
END:VTIMEZONE
BEGIN:VEVENT
DTSTART;TZID=America/New_York:20260312T140000
DTEND;TZID=America/New_York:20260430T160000
DTSTAMP:20260424T065106
CREATED:20260205T222625Z
LAST-MODIFIED:20260205T222625Z
UID:1340-1773324000-1777564800@www.vdh.virginia.gov
SUMMARY:CHW Core Competency Training Available Nationwide (Spring 2026)
DESCRIPTION:Join our CHW Core Competency Training available nationwide this spring for CHWs across the country who are looking to strengthen foundational skills and deepen their practice. \n• Training Dates: March 12 – April 30\, 2026 (weekly on Thursdays)\n• Time: 2:00–4:00 p.m. ET\n• Format: Self-paced online instruction and live sessions\n• Cohort Size: Limited to 25 participants \nThe 80-hour CHW Core Competency Training is delivered through a hybrid model grounded in the roles and competencies outlined by the National C3 Council. The 12-week program combines self-paced online instruction covering CHW foundations and health-focused competencies\, assigned coursework\, live virtual group sessions\, and a field experience. This structure supports effective onboarding and skill development for Community Health Workers. \nTraining fee applies. \nAdditional details\, including curriculum overview and registration information\, are available on MCD Learn. For course registration questions please email chwinfo@mcd.org. \nLearn More \nApply
URL:https://www.vdh.virginia.gov/brain-health/event/chw-core-competency-training-available-nationwide-spring-2026/
LOCATION:Virtual
ORGANIZER;CN="MCD Global Health":MAILTO:nationalpartners@mcd.org
END:VEVENT
BEGIN:VEVENT
DTSTART;TZID=America/New_York:20260425T081500
DTEND;TZID=America/New_York:20260425T170000
DTSTAMP:20260424T065106
CREATED:20260420T172058Z
LAST-MODIFIED:20260420T172058Z
UID:1408-1777104900-1777136400@www.vdh.virginia.gov
SUMMARY:Advance Your Expertise in Dementia Care
DESCRIPTION:Join us for the 2026 Alzheimer’s Disease and Dementia Care Seminar — your path to becoming a Certified Dementia Practitioner (CDP) through the National Council of Certified Dementia Practitioners. \n\nEvidence-based\, up-to-date curriculum\nMeets CDP seminar requirements\nIdeal for nurses\, therapists\, social workers\, caregivers & healthcare professionals’\nCertificate of completion included\nEbook included\n\nSpace is limited—reserve your spot today and enhance the compassionate care you provide to individuals living with dementia. \nRegister here
URL:https://www.vdh.virginia.gov/brain-health/event/advance-your-expertise-in-dementia-care/
LOCATION:Virtual
ORGANIZER;CN="Melissa J. Long":MAILTO:recreationaltherapy3@outlook.com
END:VEVENT
BEGIN:VEVENT
DTSTART;TZID=America/New_York:20260429T140000
DTEND;TZID=America/New_York:20260430T150000
DTSTAMP:20260424T065106
CREATED:20260408T195706Z
LAST-MODIFIED:20260408T195706Z
UID:1397-1777471200-1777561200@www.vdh.virginia.gov
SUMMARY:ET\, Can Do! Reframing Dementia Support and Education to Focus on Strengths and Resilience
DESCRIPTION:Living well with dementia is deeply influenced by the mindsets of both people living with dementia and their caregivers. Learning to Live with Dementia is a new support and education program model that combines a structured series of brief lessons with facilitated group sessions designed for people living with dementia and for caregivers to reflect on and share their experiences. \nThis innovative approach promotes a shift in perspective—focusing on what people can do to live well with dementia and providing practical strategies to support that goal. In this webinar\, participants will learn about this strengths-based support and education program\, hear inspirational stories\, and gain new perspectives designed to reframe both the dementia journey and the caregiving experience. Participants will also be introduced to the Learning to Live with Dementia Facilitator Toolkit\, a resource developed to strengthen facilitator skills\, confidence\, and capacity to deliver structured\, group-based education and engagement. \nRegister
URL:https://www.vdh.virginia.gov/brain-health/event/et-can-do-reframing-dementia-support-and-education-to-focus-on-strengths-and-resilience/
LOCATION:Virtual
ORGANIZER;CN="National Alzheimer%E2%80%99s and Dementia Resource Center":MAILTO:NADRC-Webinars@rti.org
END:VEVENT
BEGIN:VEVENT
DTSTART;TZID=America/New_York:20260429T190000
DTEND;TZID=America/New_York:20260429T200000
DTSTAMP:20260424T065106
CREATED:20260420T172920Z
LAST-MODIFIED:20260420T172920Z
UID:1410-1777489200-1777492800@www.vdh.virginia.gov
SUMMARY:Supporting Brain Health: Simple Strategies\, Lifelong Impact
DESCRIPTION:This session shares simple\, everyday ways to support brain health across the lifespan. Participants will learn how movement\, healthy eating\, getting enough sleep and relaxation\, being social\, keeping your brain active\, and taking charge of your health work together to promote well-being and reduce risk for cognitive decline. Designed with accessibility and inclusion in mind\, the session focuses on small\, practical steps that individuals\, caregivers\, and community organizations can take to support healthier brains and better lives for people with intellectual and developmental disabilities. \nPRESENTERS:\nJasmina Sisirak\, MPH\, PhD is a public health researcher and implementation scientist focused on community health promotion for people with intellectual and developmental disabilities (IDD). Her work centers on developing and translating evidence-based programs\, providing training\, and building and supporting community partnerships to advance inclusive health promotion across the lifespan. Jasmina is one of the founding directors of the HealthMatters Program at the University of Illinois Chicago. \nLake Murray is the Health and Wellness Coordinator at the National Down Syndrome Society where he works to create and support the dissemination\, implementation\, and evaluation of health and wellness programs. Lake\, born with Spina Bifida\, has a longstanding commitment to disability advocacy. He previously worked with the Special Fishies organization\, promoting drowning prevention and water safety for individuals with disabilities. Lake holds a B.S. in Public Health from Cal Poly\, San Luis Obispo and a Master of Public Health in Health Promotion from the George Washington University. \nRegister
URL:https://www.vdh.virginia.gov/brain-health/event/supporting-brain-health-simple-strategies-lifelong-impact/
LOCATION:Virtual
END:VEVENT
BEGIN:VEVENT
DTSTART;TZID=America/New_York:20260430T140000
DTEND;TZID=America/New_York:20260430T153000
DTSTAMP:20260424T065106
CREATED:20260226T170059Z
LAST-MODIFIED:20260226T170059Z
UID:1369-1777557600-1777563000@www.vdh.virginia.gov
SUMMARY:Sleep\, Memory\, and the Aging Brain: Why Rest Matters
DESCRIPTION:Presenter: Dr. Jaime Wilson \nAccessibility: Presented in ASL\, voiced in English\, and fully captioned\nPresented in Partnership With: CSD Access & AARP \nRegistration Required – Click here \nRegister
URL:https://www.vdh.virginia.gov/brain-health/event/sleep-memory-and-the-aging-brain-why-rest-matters/
LOCATION:Virtual
END:VEVENT
END:VCALENDAR